BEGIN:VCALENDAR
VERSION:2.0
PRODID:-//Churchdown Club - ECPv6.15.20//NONSGML v1.0//EN
CALSCALE:GREGORIAN
METHOD:PUBLISH
X-WR-CALNAME:Churchdown Club
X-ORIGINAL-URL:https://churchdownclub.co.uk
X-WR-CALDESC:Events for Churchdown Club
REFRESH-INTERVAL;VALUE=DURATION:PT1H
X-Robots-Tag:noindex
X-PUBLISHED-TTL:PT1H
BEGIN:VTIMEZONE
TZID:Europe/London
BEGIN:DAYLIGHT
TZOFFSETFROM:+0000
TZOFFSETTO:+0100
TZNAME:BST
DTSTART:20250330T010000
END:DAYLIGHT
BEGIN:STANDARD
TZOFFSETFROM:+0100
TZOFFSETTO:+0000
TZNAME:GMT
DTSTART:20251026T010000
END:STANDARD
BEGIN:DAYLIGHT
TZOFFSETFROM:+0000
TZOFFSETTO:+0100
TZNAME:BST
DTSTART:20260329T010000
END:DAYLIGHT
BEGIN:STANDARD
TZOFFSETFROM:+0100
TZOFFSETTO:+0000
TZNAME:GMT
DTSTART:20261025T010000
END:STANDARD
BEGIN:DAYLIGHT
TZOFFSETFROM:+0000
TZOFFSETTO:+0100
TZNAME:BST
DTSTART:20270328T010000
END:DAYLIGHT
BEGIN:STANDARD
TZOFFSETFROM:+0100
TZOFFSETTO:+0000
TZNAME:GMT
DTSTART:20271031T010000
END:STANDARD
END:VTIMEZONE
BEGIN:VEVENT
DTSTART;TZID=Europe/London:20260424T200000
DTEND;TZID=Europe/London:20260424T230000
DTSTAMP:20260423T200916
CREATED:20260122T195835Z
LAST-MODIFIED:20260204T002351Z
UID:10000004-1777060800-1777071600@churchdownclub.co.uk
SUMMARY:Quiz Night
DESCRIPTION:Come along to our monthly Quiz night\, held on the last Friday evening of every month from 20:00.
URL:https://churchdownclub.co.uk/event/quiz-night/2026-04-24/
LOCATION:Churchdown Club\, Church Road\, Churchdown\, Gloucester\, Gloucestershire\, GL3 2ER\, United Kingdom
END:VEVENT
END:VCALENDAR