BEGIN:VCALENDAR
VERSION:2.0
PRODID:-//Churchdown Club - ECPv6.15.20//NONSGML v1.0//EN
CALSCALE:GREGORIAN
METHOD:PUBLISH
X-WR-CALNAME:Churchdown Club
X-ORIGINAL-URL:https://churchdownclub.co.uk
X-WR-CALDESC:Events for Churchdown Club
REFRESH-INTERVAL;VALUE=DURATION:PT1H
X-Robots-Tag:noindex
X-PUBLISHED-TTL:PT1H
BEGIN:VTIMEZONE
TZID:Europe/London
BEGIN:DAYLIGHT
TZOFFSETFROM:+0000
TZOFFSETTO:+0100
TZNAME:BST
DTSTART:20250330T010000
END:DAYLIGHT
BEGIN:STANDARD
TZOFFSETFROM:+0100
TZOFFSETTO:+0000
TZNAME:GMT
DTSTART:20251026T010000
END:STANDARD
BEGIN:DAYLIGHT
TZOFFSETFROM:+0000
TZOFFSETTO:+0100
TZNAME:BST
DTSTART:20260329T010000
END:DAYLIGHT
BEGIN:STANDARD
TZOFFSETFROM:+0100
TZOFFSETTO:+0000
TZNAME:GMT
DTSTART:20261025T010000
END:STANDARD
BEGIN:DAYLIGHT
TZOFFSETFROM:+0000
TZOFFSETTO:+0100
TZNAME:BST
DTSTART:20270328T010000
END:DAYLIGHT
BEGIN:STANDARD
TZOFFSETFROM:+0100
TZOFFSETTO:+0000
TZNAME:GMT
DTSTART:20271031T010000
END:STANDARD
END:VTIMEZONE
BEGIN:VEVENT
DTSTART;TZID=Europe/London:20261010T200000
DTEND;TZID=Europe/London:20261010T230000
DTSTAMP:20260425T135441
CREATED:20260126T222558Z
LAST-MODIFIED:20260204T002238Z
UID:10000085-1791662400-1791673200@churchdownclub.co.uk
SUMMARY:Live Music - Jukebox Graduates
DESCRIPTION:Join us for live music at Churchdown Club – free\, community events open to everyone. Enjoy a great atmosphere and a welcoming venue. \nPlease check our social media pages for the latest updates and any changes to the event schedule.
URL:https://churchdownclub.co.uk/event/live-music-jukebox-graduates/
LOCATION:Churchdown Club\, Church Road\, Churchdown\, Gloucester\, Gloucestershire\, GL3 2ER\, United Kingdom
END:VEVENT
BEGIN:VEVENT
DTSTART;TZID=Europe/London:20261002T200000
DTEND;TZID=Europe/London:20261002T230000
DTSTAMP:20260425T135441
CREATED:20260126T223010Z
LAST-MODIFIED:20260204T002508Z
UID:10000089-1790971200-1790982000@churchdownclub.co.uk
SUMMARY:Karaoke
DESCRIPTION:Join us for Karaoke Night at Churchdown Club – where everyone’s welcome to take the mic or cheer from the crowd. Enjoy a fun\, friendly atmosphere\, great tunes\, and a welcoming venue for all. \nPlease check our social media pages for the latest updates and any changes to the event schedule.
URL:https://churchdownclub.co.uk/event/karaoke/2026-10-02/
LOCATION:Churchdown Club\, Church Road\, Churchdown\, Gloucester\, Gloucestershire\, GL3 2ER\, United Kingdom
END:VEVENT
BEGIN:VEVENT
DTSTART;TZID=Europe/London:20260925T200000
DTEND;TZID=Europe/London:20260925T230000
DTSTAMP:20260425T135441
CREATED:20260122T195835Z
LAST-MODIFIED:20260204T002351Z
UID:10000009-1790366400-1790377200@churchdownclub.co.uk
SUMMARY:Quiz Night
DESCRIPTION:Come along to our monthly Quiz night\, held on the last Friday evening of every month from 20:00.
URL:https://churchdownclub.co.uk/event/quiz-night/2026-09-25/
LOCATION:Churchdown Club\, Church Road\, Churchdown\, Gloucester\, Gloucestershire\, GL3 2ER\, United Kingdom
END:VEVENT
BEGIN:VEVENT
DTSTART;TZID=Europe/London:20260905T200000
DTEND;TZID=Europe/London:20260905T230000
DTSTAMP:20260425T135441
CREATED:20260126T222558Z
LAST-MODIFIED:20260204T002257Z
UID:10000084-1788638400-1788649200@churchdownclub.co.uk
SUMMARY:Live Music - Masterplan
DESCRIPTION:Join us for live music at Churchdown Club – free\, community events open to everyone. Enjoy a great atmosphere and a welcoming venue. \nPlease check our social media pages for the latest updates and any changes to the event schedule.
URL:https://churchdownclub.co.uk/event/live-music-masterplan/
LOCATION:Churchdown Club\, Church Road\, Churchdown\, Gloucester\, Gloucestershire\, GL3 2ER\, United Kingdom
END:VEVENT
BEGIN:VEVENT
DTSTART;TZID=Europe/London:20260828T200000
DTEND;TZID=Europe/London:20260828T230000
DTSTAMP:20260425T135441
CREATED:20260122T195835Z
LAST-MODIFIED:20260204T002351Z
UID:10000008-1787947200-1787958000@churchdownclub.co.uk
SUMMARY:Quiz Night
DESCRIPTION:Come along to our monthly Quiz night\, held on the last Friday evening of every month from 20:00.
URL:https://churchdownclub.co.uk/event/quiz-night/2026-08-28/
LOCATION:Churchdown Club\, Church Road\, Churchdown\, Gloucester\, Gloucestershire\, GL3 2ER\, United Kingdom
END:VEVENT
BEGIN:VEVENT
DTSTART;VALUE=DATE:20260828
DTEND;VALUE=DATE:20260901
DTSTAMP:20260425T135441
CREATED:20260126T221107Z
LAST-MODIFIED:20260204T002339Z
UID:10000074-1787875200-1788220799@churchdownclub.co.uk
SUMMARY:Cider Festival
DESCRIPTION:Please check our social media pages for the latest updates and any changes to the event schedule.
URL:https://churchdownclub.co.uk/event/cider-festival/
LOCATION:Churchdown Club\, Church Road\, Churchdown\, Gloucester\, Gloucestershire\, GL3 2ER\, United Kingdom
END:VEVENT
BEGIN:VEVENT
DTSTART;TZID=Europe/London:20260731T200000
DTEND;TZID=Europe/London:20260731T230000
DTSTAMP:20260425T135441
CREATED:20260122T195835Z
LAST-MODIFIED:20260204T002351Z
UID:10000007-1785528000-1785538800@churchdownclub.co.uk
SUMMARY:Quiz Night
DESCRIPTION:Come along to our monthly Quiz night\, held on the last Friday evening of every month from 20:00.
URL:https://churchdownclub.co.uk/event/quiz-night/2026-07-31/
LOCATION:Churchdown Club\, Church Road\, Churchdown\, Gloucester\, Gloucestershire\, GL3 2ER\, United Kingdom
END:VEVENT
BEGIN:VEVENT
DTSTART;TZID=Europe/London:20260711T200000
DTEND;TZID=Europe/London:20260711T230000
DTSTAMP:20260425T135441
CREATED:20260126T222557Z
LAST-MODIFIED:20260204T002432Z
UID:10000083-1783800000-1783810800@churchdownclub.co.uk
SUMMARY:Live Music - Overboard
DESCRIPTION:Join us for live music at Churchdown Club – free\, community events open to everyone. Enjoy a great atmosphere and a welcoming venue. \nPlease check our social media pages for the latest updates and any changes to the event schedule.
URL:https://churchdownclub.co.uk/event/live-music-overboard/
LOCATION:Churchdown Club\, Church Road\, Churchdown\, Gloucester\, Gloucestershire\, GL3 2ER\, United Kingdom
END:VEVENT
BEGIN:VEVENT
DTSTART;TZID=Europe/London:20260626T200000
DTEND;TZID=Europe/London:20260626T230000
DTSTAMP:20260425T135441
CREATED:20260122T195835Z
LAST-MODIFIED:20260204T002351Z
UID:10000006-1782504000-1782514800@churchdownclub.co.uk
SUMMARY:Quiz Night
DESCRIPTION:Come along to our monthly Quiz night\, held on the last Friday evening of every month from 20:00.
URL:https://churchdownclub.co.uk/event/quiz-night/2026-06-26/
LOCATION:Churchdown Club\, Church Road\, Churchdown\, Gloucester\, Gloucestershire\, GL3 2ER\, United Kingdom
END:VEVENT
BEGIN:VEVENT
DTSTART;TZID=Europe/London:20260620T200000
DTEND;TZID=Europe/London:20260620T230000
DTSTAMP:20260425T135441
CREATED:20260126T222557Z
LAST-MODIFIED:20260204T002438Z
UID:10000082-1781985600-1781996400@churchdownclub.co.uk
SUMMARY:Live Music - Tracer
DESCRIPTION:Join us for live music at Churchdown Club – free\, community events open to everyone. Enjoy a great atmosphere and a welcoming venue. \nPlease check our social media pages for the latest updates and any changes to the event schedule.
URL:https://churchdownclub.co.uk/event/live-music-tracer/
LOCATION:Churchdown Club\, Church Road\, Churchdown\, Gloucester\, Gloucestershire\, GL3 2ER\, United Kingdom
END:VEVENT
BEGIN:VEVENT
DTSTART;TZID=Europe/London:20260613T200000
DTEND;TZID=Europe/London:20260613T230000
DTSTAMP:20260425T135441
CREATED:20260126T222557Z
LAST-MODIFIED:20260204T002444Z
UID:10000081-1781380800-1781391600@churchdownclub.co.uk
SUMMARY:Live Music - The Pulsations
DESCRIPTION:Join us for live music at Churchdown Club – free\, community events open to everyone. Enjoy a great atmosphere and a welcoming venue. \nPlease check our social media pages for the latest updates and any changes to the event schedule.
URL:https://churchdownclub.co.uk/event/live-music-the-pulsations/
LOCATION:Churchdown Club\, Church Road\, Churchdown\, Gloucester\, Gloucestershire\, GL3 2ER\, United Kingdom
END:VEVENT
BEGIN:VEVENT
DTSTART;TZID=Europe/London:20260606T200000
DTEND;TZID=Europe/London:20260606T230000
DTSTAMP:20260425T135441
CREATED:20260210T121842Z
LAST-MODIFIED:20260210T122822Z
UID:10000107-1780776000-1780786800@churchdownclub.co.uk
SUMMARY:George Michael & WHAM Tribute Night
DESCRIPTION:
URL:https://churchdownclub.co.uk/event/george-michael-wham-tribute-night/
LOCATION:Churchdown Club\, Church Road\, Churchdown\, Gloucester\, Gloucestershire\, GL3 2ER\, United Kingdom
END:VEVENT
BEGIN:VEVENT
DTSTART;TZID=Europe/London:20260529T200000
DTEND;TZID=Europe/London:20260529T230000
DTSTAMP:20260425T135441
CREATED:20260122T195835Z
LAST-MODIFIED:20260204T002351Z
UID:10000005-1780084800-1780095600@churchdownclub.co.uk
SUMMARY:Quiz Night
DESCRIPTION:Come along to our monthly Quiz night\, held on the last Friday evening of every month from 20:00.
URL:https://churchdownclub.co.uk/event/quiz-night/2026-05-29/
LOCATION:Churchdown Club\, Church Road\, Churchdown\, Gloucester\, Gloucestershire\, GL3 2ER\, United Kingdom
END:VEVENT
BEGIN:VEVENT
DTSTART;TZID=Europe/London:20260516T200000
DTEND;TZID=Europe/London:20260516T230000
DTSTAMP:20260425T135441
CREATED:20260126T222555Z
LAST-MODIFIED:20260204T002450Z
UID:10000080-1778961600-1778972400@churchdownclub.co.uk
SUMMARY:Live Music - 5 Undercover
DESCRIPTION:Join us for live music at Churchdown Club – free\, community events open to everyone. Enjoy a great atmosphere and a welcoming venue. \nPlease check our social media pages for the latest updates and any changes to the event schedule.
URL:https://churchdownclub.co.uk/event/live-music-5-undercover/
LOCATION:Churchdown Club\, Church Road\, Churchdown\, Gloucester\, Gloucestershire\, GL3 2ER\, United Kingdom
END:VEVENT
BEGIN:VEVENT
DTSTART;VALUE=DATE:20260501
DTEND;VALUE=DATE:20260504
DTSTAMP:20260425T135441
CREATED:20260126T221009Z
LAST-MODIFIED:20260204T002455Z
UID:10000073-1777593600-1777852799@churchdownclub.co.uk
SUMMARY:Ale Festival
DESCRIPTION:Join us for our Ale Festival at Churchdown Club – celebrating great beer and good company. Enjoy a wide selection of real ales and ciders\, a friendly atmosphere\, and a welcoming venue for all. \nPlease check our social media pages for the latest updates and any changes to the event schedule.
URL:https://churchdownclub.co.uk/event/ale-festival/
LOCATION:Churchdown Club\, Church Road\, Churchdown\, Gloucester\, Gloucestershire\, GL3 2ER\, United Kingdom
END:VEVENT
END:VCALENDAR