BEGIN:VCALENDAR
VERSION:2.0
PRODID:-//Churchdown Club - ECPv6.15.20//NONSGML v1.0//EN
CALSCALE:GREGORIAN
METHOD:PUBLISH
X-WR-CALNAME:Churchdown Club
X-ORIGINAL-URL:https://churchdownclub.co.uk
X-WR-CALDESC:Events for Churchdown Club
REFRESH-INTERVAL;VALUE=DURATION:PT1H
X-Robots-Tag:noindex
X-PUBLISHED-TTL:PT1H
BEGIN:VTIMEZONE
TZID:Europe/London
BEGIN:DAYLIGHT
TZOFFSETFROM:+0000
TZOFFSETTO:+0100
TZNAME:BST
DTSTART:20260329T010000
END:DAYLIGHT
BEGIN:STANDARD
TZOFFSETFROM:+0100
TZOFFSETTO:+0000
TZNAME:GMT
DTSTART:20261025T010000
END:STANDARD
BEGIN:DAYLIGHT
TZOFFSETFROM:+0000
TZOFFSETTO:+0100
TZNAME:BST
DTSTART:20270328T010000
END:DAYLIGHT
BEGIN:STANDARD
TZOFFSETFROM:+0100
TZOFFSETTO:+0000
TZNAME:GMT
DTSTART:20271031T010000
END:STANDARD
BEGIN:DAYLIGHT
TZOFFSETFROM:+0000
TZOFFSETTO:+0100
TZNAME:BST
DTSTART:20280326T010000
END:DAYLIGHT
BEGIN:STANDARD
TZOFFSETFROM:+0100
TZOFFSETTO:+0000
TZNAME:GMT
DTSTART:20281029T010000
END:STANDARD
BEGIN:DAYLIGHT
TZOFFSETFROM:+0000
TZOFFSETTO:+0100
TZNAME:BST
DTSTART:20290325T010000
END:DAYLIGHT
BEGIN:STANDARD
TZOFFSETFROM:+0100
TZOFFSETTO:+0000
TZNAME:GMT
DTSTART:20291028T010000
END:STANDARD
BEGIN:DAYLIGHT
TZOFFSETFROM:+0000
TZOFFSETTO:+0100
TZNAME:BST
DTSTART:20300331T010000
END:DAYLIGHT
BEGIN:STANDARD
TZOFFSETFROM:+0100
TZOFFSETTO:+0000
TZNAME:GMT
DTSTART:20301027T010000
END:STANDARD
END:VTIMEZONE
BEGIN:VEVENT
DTSTART;TZID=Europe/London:20270226T200000
DTEND;TZID=Europe/London:20270226T230000
DTSTAMP:20260423T200915
CREATED:20260122T195835Z
LAST-MODIFIED:20260204T002351Z
UID:10000014-1803672000-1803682800@churchdownclub.co.uk
SUMMARY:Quiz Night
DESCRIPTION:Come along to our monthly Quiz night\, held on the last Friday evening of every month from 20:00.
URL:https://churchdownclub.co.uk/event/quiz-night/2027-02-26/
LOCATION:Churchdown Club\, Church Road\, Churchdown\, Gloucester\, Gloucestershire\, GL3 2ER\, United Kingdom
END:VEVENT
BEGIN:VEVENT
DTSTART;TZID=Europe/London:20270326T200000
DTEND;TZID=Europe/London:20270326T230000
DTSTAMP:20260423T200915
CREATED:20260122T195835Z
LAST-MODIFIED:20260204T002351Z
UID:10000015-1806091200-1806102000@churchdownclub.co.uk
SUMMARY:Quiz Night
DESCRIPTION:Come along to our monthly Quiz night\, held on the last Friday evening of every month from 20:00.
URL:https://churchdownclub.co.uk/event/quiz-night/2027-03-26/
LOCATION:Churchdown Club\, Church Road\, Churchdown\, Gloucester\, Gloucestershire\, GL3 2ER\, United Kingdom
END:VEVENT
BEGIN:VEVENT
DTSTART;TZID=Europe/London:20270430T200000
DTEND;TZID=Europe/London:20270430T230000
DTSTAMP:20260423T200915
CREATED:20260122T195835Z
LAST-MODIFIED:20260204T002351Z
UID:10000016-1809115200-1809126000@churchdownclub.co.uk
SUMMARY:Quiz Night
DESCRIPTION:Come along to our monthly Quiz night\, held on the last Friday evening of every month from 20:00.
URL:https://churchdownclub.co.uk/event/quiz-night/2027-04-30/
LOCATION:Churchdown Club\, Church Road\, Churchdown\, Gloucester\, Gloucestershire\, GL3 2ER\, United Kingdom
END:VEVENT
BEGIN:VEVENT
DTSTART;TZID=Europe/London:20270528T200000
DTEND;TZID=Europe/London:20270528T230000
DTSTAMP:20260423T200915
CREATED:20260122T195835Z
LAST-MODIFIED:20260204T002351Z
UID:10000017-1811534400-1811545200@churchdownclub.co.uk
SUMMARY:Quiz Night
DESCRIPTION:Come along to our monthly Quiz night\, held on the last Friday evening of every month from 20:00.
URL:https://churchdownclub.co.uk/event/quiz-night/2027-05-28/
LOCATION:Churchdown Club\, Church Road\, Churchdown\, Gloucester\, Gloucestershire\, GL3 2ER\, United Kingdom
END:VEVENT
BEGIN:VEVENT
DTSTART;TZID=Europe/London:20270625T200000
DTEND;TZID=Europe/London:20270625T230000
DTSTAMP:20260423T200915
CREATED:20260122T195835Z
LAST-MODIFIED:20260204T002351Z
UID:10000018-1813953600-1813964400@churchdownclub.co.uk
SUMMARY:Quiz Night
DESCRIPTION:Come along to our monthly Quiz night\, held on the last Friday evening of every month from 20:00.
URL:https://churchdownclub.co.uk/event/quiz-night/2027-06-25/
LOCATION:Churchdown Club\, Church Road\, Churchdown\, Gloucester\, Gloucestershire\, GL3 2ER\, United Kingdom
END:VEVENT
BEGIN:VEVENT
DTSTART;TZID=Europe/London:20270730T200000
DTEND;TZID=Europe/London:20270730T230000
DTSTAMP:20260423T200915
CREATED:20260122T195835Z
LAST-MODIFIED:20260204T002351Z
UID:10000019-1816977600-1816988400@churchdownclub.co.uk
SUMMARY:Quiz Night
DESCRIPTION:Come along to our monthly Quiz night\, held on the last Friday evening of every month from 20:00.
URL:https://churchdownclub.co.uk/event/quiz-night/2027-07-30/
LOCATION:Churchdown Club\, Church Road\, Churchdown\, Gloucester\, Gloucestershire\, GL3 2ER\, United Kingdom
END:VEVENT
BEGIN:VEVENT
DTSTART;TZID=Europe/London:20270827T200000
DTEND;TZID=Europe/London:20270827T230000
DTSTAMP:20260423T200915
CREATED:20260122T195835Z
LAST-MODIFIED:20260204T002351Z
UID:10000020-1819396800-1819407600@churchdownclub.co.uk
SUMMARY:Quiz Night
DESCRIPTION:Come along to our monthly Quiz night\, held on the last Friday evening of every month from 20:00.
URL:https://churchdownclub.co.uk/event/quiz-night/2027-08-27/
LOCATION:Churchdown Club\, Church Road\, Churchdown\, Gloucester\, Gloucestershire\, GL3 2ER\, United Kingdom
END:VEVENT
BEGIN:VEVENT
DTSTART;TZID=Europe/London:20270924T200000
DTEND;TZID=Europe/London:20270924T230000
DTSTAMP:20260423T200915
CREATED:20260122T195835Z
LAST-MODIFIED:20260204T002351Z
UID:10000021-1821816000-1821826800@churchdownclub.co.uk
SUMMARY:Quiz Night
DESCRIPTION:Come along to our monthly Quiz night\, held on the last Friday evening of every month from 20:00.
URL:https://churchdownclub.co.uk/event/quiz-night/2027-09-24/
LOCATION:Churchdown Club\, Church Road\, Churchdown\, Gloucester\, Gloucestershire\, GL3 2ER\, United Kingdom
END:VEVENT
BEGIN:VEVENT
DTSTART;TZID=Europe/London:20271029T200000
DTEND;TZID=Europe/London:20271029T230000
DTSTAMP:20260423T200915
CREATED:20260122T195835Z
LAST-MODIFIED:20260204T002351Z
UID:10000022-1824840000-1824850800@churchdownclub.co.uk
SUMMARY:Quiz Night
DESCRIPTION:Come along to our monthly Quiz night\, held on the last Friday evening of every month from 20:00.
URL:https://churchdownclub.co.uk/event/quiz-night/2027-10-29/
LOCATION:Churchdown Club\, Church Road\, Churchdown\, Gloucester\, Gloucestershire\, GL3 2ER\, United Kingdom
END:VEVENT
BEGIN:VEVENT
DTSTART;TZID=Europe/London:20271126T200000
DTEND;TZID=Europe/London:20271126T230000
DTSTAMP:20260423T200915
CREATED:20260122T195835Z
LAST-MODIFIED:20260204T002351Z
UID:10000023-1827259200-1827270000@churchdownclub.co.uk
SUMMARY:Quiz Night
DESCRIPTION:Come along to our monthly Quiz night\, held on the last Friday evening of every month from 20:00.
URL:https://churchdownclub.co.uk/event/quiz-night/2027-11-26/
LOCATION:Churchdown Club\, Church Road\, Churchdown\, Gloucester\, Gloucestershire\, GL3 2ER\, United Kingdom
END:VEVENT
BEGIN:VEVENT
DTSTART;TZID=Europe/London:20271231T200000
DTEND;TZID=Europe/London:20271231T230000
DTSTAMP:20260423T200915
CREATED:20260122T195835Z
LAST-MODIFIED:20260204T002351Z
UID:10000024-1830283200-1830294000@churchdownclub.co.uk
SUMMARY:Quiz Night
DESCRIPTION:Come along to our monthly Quiz night\, held on the last Friday evening of every month from 20:00.
URL:https://churchdownclub.co.uk/event/quiz-night/2027-12-31/
LOCATION:Churchdown Club\, Church Road\, Churchdown\, Gloucester\, Gloucestershire\, GL3 2ER\, United Kingdom
END:VEVENT
BEGIN:VEVENT
DTSTART;TZID=Europe/London:20280128T200000
DTEND;TZID=Europe/London:20280128T230000
DTSTAMP:20260423T200915
CREATED:20260122T195835Z
LAST-MODIFIED:20260204T002351Z
UID:10000025-1832702400-1832713200@churchdownclub.co.uk
SUMMARY:Quiz Night
DESCRIPTION:Come along to our monthly Quiz night\, held on the last Friday evening of every month from 20:00.
URL:https://churchdownclub.co.uk/event/quiz-night/2028-01-28/
LOCATION:Churchdown Club\, Church Road\, Churchdown\, Gloucester\, Gloucestershire\, GL3 2ER\, United Kingdom
END:VEVENT
BEGIN:VEVENT
DTSTART;TZID=Europe/London:20280225T200000
DTEND;TZID=Europe/London:20280225T230000
DTSTAMP:20260423T200915
CREATED:20260122T195835Z
LAST-MODIFIED:20260204T002351Z
UID:10000026-1835121600-1835132400@churchdownclub.co.uk
SUMMARY:Quiz Night
DESCRIPTION:Come along to our monthly Quiz night\, held on the last Friday evening of every month from 20:00.
URL:https://churchdownclub.co.uk/event/quiz-night/2028-02-25/
LOCATION:Churchdown Club\, Church Road\, Churchdown\, Gloucester\, Gloucestershire\, GL3 2ER\, United Kingdom
END:VEVENT
BEGIN:VEVENT
DTSTART;TZID=Europe/London:20280331T200000
DTEND;TZID=Europe/London:20280331T230000
DTSTAMP:20260423T200915
CREATED:20260122T195835Z
LAST-MODIFIED:20260204T002351Z
UID:10000027-1838145600-1838156400@churchdownclub.co.uk
SUMMARY:Quiz Night
DESCRIPTION:Come along to our monthly Quiz night\, held on the last Friday evening of every month from 20:00.
URL:https://churchdownclub.co.uk/event/quiz-night/2028-03-31/
LOCATION:Churchdown Club\, Church Road\, Churchdown\, Gloucester\, Gloucestershire\, GL3 2ER\, United Kingdom
END:VEVENT
BEGIN:VEVENT
DTSTART;TZID=Europe/London:20280428T200000
DTEND;TZID=Europe/London:20280428T230000
DTSTAMP:20260423T200915
CREATED:20260122T195835Z
LAST-MODIFIED:20260204T002351Z
UID:10000028-1840564800-1840575600@churchdownclub.co.uk
SUMMARY:Quiz Night
DESCRIPTION:Come along to our monthly Quiz night\, held on the last Friday evening of every month from 20:00.
URL:https://churchdownclub.co.uk/event/quiz-night/2028-04-28/
LOCATION:Churchdown Club\, Church Road\, Churchdown\, Gloucester\, Gloucestershire\, GL3 2ER\, United Kingdom
END:VEVENT
BEGIN:VEVENT
DTSTART;TZID=Europe/London:20280526T200000
DTEND;TZID=Europe/London:20280526T230000
DTSTAMP:20260423T200915
CREATED:20260122T195835Z
LAST-MODIFIED:20260204T002351Z
UID:10000029-1842984000-1842994800@churchdownclub.co.uk
SUMMARY:Quiz Night
DESCRIPTION:Come along to our monthly Quiz night\, held on the last Friday evening of every month from 20:00.
URL:https://churchdownclub.co.uk/event/quiz-night/2028-05-26/
LOCATION:Churchdown Club\, Church Road\, Churchdown\, Gloucester\, Gloucestershire\, GL3 2ER\, United Kingdom
END:VEVENT
BEGIN:VEVENT
DTSTART;TZID=Europe/London:20280630T200000
DTEND;TZID=Europe/London:20280630T230000
DTSTAMP:20260423T200915
CREATED:20260122T195835Z
LAST-MODIFIED:20260204T002351Z
UID:10000030-1846008000-1846018800@churchdownclub.co.uk
SUMMARY:Quiz Night
DESCRIPTION:Come along to our monthly Quiz night\, held on the last Friday evening of every month from 20:00.
URL:https://churchdownclub.co.uk/event/quiz-night/2028-06-30/
LOCATION:Churchdown Club\, Church Road\, Churchdown\, Gloucester\, Gloucestershire\, GL3 2ER\, United Kingdom
END:VEVENT
BEGIN:VEVENT
DTSTART;TZID=Europe/London:20280728T200000
DTEND;TZID=Europe/London:20280728T230000
DTSTAMP:20260423T200915
CREATED:20260122T195835Z
LAST-MODIFIED:20260204T002351Z
UID:10000031-1848427200-1848438000@churchdownclub.co.uk
SUMMARY:Quiz Night
DESCRIPTION:Come along to our monthly Quiz night\, held on the last Friday evening of every month from 20:00.
URL:https://churchdownclub.co.uk/event/quiz-night/2028-07-28/
LOCATION:Churchdown Club\, Church Road\, Churchdown\, Gloucester\, Gloucestershire\, GL3 2ER\, United Kingdom
END:VEVENT
BEGIN:VEVENT
DTSTART;TZID=Europe/London:20280825T200000
DTEND;TZID=Europe/London:20280825T230000
DTSTAMP:20260423T200915
CREATED:20260122T195835Z
LAST-MODIFIED:20260204T002351Z
UID:10000032-1850846400-1850857200@churchdownclub.co.uk
SUMMARY:Quiz Night
DESCRIPTION:Come along to our monthly Quiz night\, held on the last Friday evening of every month from 20:00.
URL:https://churchdownclub.co.uk/event/quiz-night/2028-08-25/
LOCATION:Churchdown Club\, Church Road\, Churchdown\, Gloucester\, Gloucestershire\, GL3 2ER\, United Kingdom
END:VEVENT
BEGIN:VEVENT
DTSTART;TZID=Europe/London:20280929T200000
DTEND;TZID=Europe/London:20280929T230000
DTSTAMP:20260423T200915
CREATED:20260122T195835Z
LAST-MODIFIED:20260204T002351Z
UID:10000033-1853870400-1853881200@churchdownclub.co.uk
SUMMARY:Quiz Night
DESCRIPTION:Come along to our monthly Quiz night\, held on the last Friday evening of every month from 20:00.
URL:https://churchdownclub.co.uk/event/quiz-night/2028-09-29/
LOCATION:Churchdown Club\, Church Road\, Churchdown\, Gloucester\, Gloucestershire\, GL3 2ER\, United Kingdom
END:VEVENT
BEGIN:VEVENT
DTSTART;TZID=Europe/London:20281027T200000
DTEND;TZID=Europe/London:20281027T230000
DTSTAMP:20260423T200915
CREATED:20260122T195835Z
LAST-MODIFIED:20260204T002351Z
UID:10000034-1856289600-1856300400@churchdownclub.co.uk
SUMMARY:Quiz Night
DESCRIPTION:Come along to our monthly Quiz night\, held on the last Friday evening of every month from 20:00.
URL:https://churchdownclub.co.uk/event/quiz-night/2028-10-27/
LOCATION:Churchdown Club\, Church Road\, Churchdown\, Gloucester\, Gloucestershire\, GL3 2ER\, United Kingdom
END:VEVENT
BEGIN:VEVENT
DTSTART;TZID=Europe/London:20281124T200000
DTEND;TZID=Europe/London:20281124T230000
DTSTAMP:20260423T200915
CREATED:20260122T195835Z
LAST-MODIFIED:20260204T002351Z
UID:10000035-1858708800-1858719600@churchdownclub.co.uk
SUMMARY:Quiz Night
DESCRIPTION:Come along to our monthly Quiz night\, held on the last Friday evening of every month from 20:00.
URL:https://churchdownclub.co.uk/event/quiz-night/2028-11-24/
LOCATION:Churchdown Club\, Church Road\, Churchdown\, Gloucester\, Gloucestershire\, GL3 2ER\, United Kingdom
END:VEVENT
BEGIN:VEVENT
DTSTART;TZID=Europe/London:20281229T200000
DTEND;TZID=Europe/London:20281229T230000
DTSTAMP:20260423T200915
CREATED:20260122T195835Z
LAST-MODIFIED:20260204T002351Z
UID:10000036-1861732800-1861743600@churchdownclub.co.uk
SUMMARY:Quiz Night
DESCRIPTION:Come along to our monthly Quiz night\, held on the last Friday evening of every month from 20:00.
URL:https://churchdownclub.co.uk/event/quiz-night/2028-12-29/
LOCATION:Churchdown Club\, Church Road\, Churchdown\, Gloucester\, Gloucestershire\, GL3 2ER\, United Kingdom
END:VEVENT
BEGIN:VEVENT
DTSTART;TZID=Europe/London:20290126T200000
DTEND;TZID=Europe/London:20290126T230000
DTSTAMP:20260423T200915
CREATED:20260122T195835Z
LAST-MODIFIED:20260204T002351Z
UID:10000037-1864152000-1864162800@churchdownclub.co.uk
SUMMARY:Quiz Night
DESCRIPTION:Come along to our monthly Quiz night\, held on the last Friday evening of every month from 20:00.
URL:https://churchdownclub.co.uk/event/quiz-night/2029-01-26/
LOCATION:Churchdown Club\, Church Road\, Churchdown\, Gloucester\, Gloucestershire\, GL3 2ER\, United Kingdom
END:VEVENT
BEGIN:VEVENT
DTSTART;TZID=Europe/London:20290223T200000
DTEND;TZID=Europe/London:20290223T230000
DTSTAMP:20260423T200915
CREATED:20260122T195835Z
LAST-MODIFIED:20260204T002351Z
UID:10000038-1866571200-1866582000@churchdownclub.co.uk
SUMMARY:Quiz Night
DESCRIPTION:Come along to our monthly Quiz night\, held on the last Friday evening of every month from 20:00.
URL:https://churchdownclub.co.uk/event/quiz-night/2029-02-23/
LOCATION:Churchdown Club\, Church Road\, Churchdown\, Gloucester\, Gloucestershire\, GL3 2ER\, United Kingdom
END:VEVENT
BEGIN:VEVENT
DTSTART;TZID=Europe/London:20290330T200000
DTEND;TZID=Europe/London:20290330T230000
DTSTAMP:20260423T200915
CREATED:20260122T195835Z
LAST-MODIFIED:20260204T002351Z
UID:10000039-1869595200-1869606000@churchdownclub.co.uk
SUMMARY:Quiz Night
DESCRIPTION:Come along to our monthly Quiz night\, held on the last Friday evening of every month from 20:00.
URL:https://churchdownclub.co.uk/event/quiz-night/2029-03-30/
LOCATION:Churchdown Club\, Church Road\, Churchdown\, Gloucester\, Gloucestershire\, GL3 2ER\, United Kingdom
END:VEVENT
BEGIN:VEVENT
DTSTART;TZID=Europe/London:20290427T200000
DTEND;TZID=Europe/London:20290427T230000
DTSTAMP:20260423T200915
CREATED:20260122T195835Z
LAST-MODIFIED:20260204T002351Z
UID:10000040-1872014400-1872025200@churchdownclub.co.uk
SUMMARY:Quiz Night
DESCRIPTION:Come along to our monthly Quiz night\, held on the last Friday evening of every month from 20:00.
URL:https://churchdownclub.co.uk/event/quiz-night/2029-04-27/
LOCATION:Churchdown Club\, Church Road\, Churchdown\, Gloucester\, Gloucestershire\, GL3 2ER\, United Kingdom
END:VEVENT
BEGIN:VEVENT
DTSTART;TZID=Europe/London:20290525T200000
DTEND;TZID=Europe/London:20290525T230000
DTSTAMP:20260423T200915
CREATED:20260122T195835Z
LAST-MODIFIED:20260204T002351Z
UID:10000041-1874433600-1874444400@churchdownclub.co.uk
SUMMARY:Quiz Night
DESCRIPTION:Come along to our monthly Quiz night\, held on the last Friday evening of every month from 20:00.
URL:https://churchdownclub.co.uk/event/quiz-night/2029-05-25/
LOCATION:Churchdown Club\, Church Road\, Churchdown\, Gloucester\, Gloucestershire\, GL3 2ER\, United Kingdom
END:VEVENT
BEGIN:VEVENT
DTSTART;TZID=Europe/London:20290629T200000
DTEND;TZID=Europe/London:20290629T230000
DTSTAMP:20260423T200915
CREATED:20260122T195835Z
LAST-MODIFIED:20260204T002351Z
UID:10000042-1877457600-1877468400@churchdownclub.co.uk
SUMMARY:Quiz Night
DESCRIPTION:Come along to our monthly Quiz night\, held on the last Friday evening of every month from 20:00.
URL:https://churchdownclub.co.uk/event/quiz-night/2029-06-29/
LOCATION:Churchdown Club\, Church Road\, Churchdown\, Gloucester\, Gloucestershire\, GL3 2ER\, United Kingdom
END:VEVENT
BEGIN:VEVENT
DTSTART;TZID=Europe/London:20290727T200000
DTEND;TZID=Europe/London:20290727T230000
DTSTAMP:20260423T200915
CREATED:20260122T195835Z
LAST-MODIFIED:20260204T002351Z
UID:10000043-1879876800-1879887600@churchdownclub.co.uk
SUMMARY:Quiz Night
DESCRIPTION:Come along to our monthly Quiz night\, held on the last Friday evening of every month from 20:00.
URL:https://churchdownclub.co.uk/event/quiz-night/2029-07-27/
LOCATION:Churchdown Club\, Church Road\, Churchdown\, Gloucester\, Gloucestershire\, GL3 2ER\, United Kingdom
END:VEVENT
END:VCALENDAR