BEGIN:VCALENDAR
VERSION:2.0
PRODID:-//Churchdown Club - ECPv6.15.20//NONSGML v1.0//EN
CALSCALE:GREGORIAN
METHOD:PUBLISH
X-WR-CALNAME:Churchdown Club
X-ORIGINAL-URL:https://churchdownclub.co.uk
X-WR-CALDESC:Events for Churchdown Club
REFRESH-INTERVAL;VALUE=DURATION:PT1H
X-Robots-Tag:noindex
X-PUBLISHED-TTL:PT1H
BEGIN:VTIMEZONE
TZID:Europe/London
BEGIN:DAYLIGHT
TZOFFSETFROM:+0000
TZOFFSETTO:+0100
TZNAME:BST
DTSTART:20290325T010000
END:DAYLIGHT
BEGIN:STANDARD
TZOFFSETFROM:+0100
TZOFFSETTO:+0000
TZNAME:GMT
DTSTART:20291028T010000
END:STANDARD
BEGIN:DAYLIGHT
TZOFFSETFROM:+0000
TZOFFSETTO:+0100
TZNAME:BST
DTSTART:20300331T010000
END:DAYLIGHT
BEGIN:STANDARD
TZOFFSETFROM:+0100
TZOFFSETTO:+0000
TZNAME:GMT
DTSTART:20301027T010000
END:STANDARD
BEGIN:DAYLIGHT
TZOFFSETFROM:+0000
TZOFFSETTO:+0100
TZNAME:BST
DTSTART:20310330T010000
END:DAYLIGHT
BEGIN:STANDARD
TZOFFSETFROM:+0100
TZOFFSETTO:+0000
TZNAME:GMT
DTSTART:20311026T010000
END:STANDARD
BEGIN:DAYLIGHT
TZOFFSETFROM:+0000
TZOFFSETTO:+0100
TZNAME:BST
DTSTART:20320328T010000
END:DAYLIGHT
BEGIN:STANDARD
TZOFFSETFROM:+0100
TZOFFSETTO:+0000
TZNAME:GMT
DTSTART:20321031T010000
END:STANDARD
END:VTIMEZONE
BEGIN:VEVENT
DTSTART;TZID=Europe/London:20301129T200000
DTEND;TZID=Europe/London:20301129T230000
DTSTAMP:20260423T214100
CREATED:20260122T195835Z
LAST-MODIFIED:20260204T002351Z
UID:10000059-1922212800-1922223600@churchdownclub.co.uk
SUMMARY:Quiz Night
DESCRIPTION:Come along to our monthly Quiz night\, held on the last Friday evening of every month from 20:00.
URL:https://churchdownclub.co.uk/event/quiz-night/2030-11-29/
LOCATION:Churchdown Club\, Church Road\, Churchdown\, Gloucester\, Gloucestershire\, GL3 2ER\, United Kingdom
END:VEVENT
BEGIN:VEVENT
DTSTART;TZID=Europe/London:20301227T200000
DTEND;TZID=Europe/London:20301227T230000
DTSTAMP:20260423T214100
CREATED:20260122T195835Z
LAST-MODIFIED:20260204T002351Z
UID:10000060-1924632000-1924642800@churchdownclub.co.uk
SUMMARY:Quiz Night
DESCRIPTION:Come along to our monthly Quiz night\, held on the last Friday evening of every month from 20:00.
URL:https://churchdownclub.co.uk/event/quiz-night/2030-12-27/
LOCATION:Churchdown Club\, Church Road\, Churchdown\, Gloucester\, Gloucestershire\, GL3 2ER\, United Kingdom
END:VEVENT
BEGIN:VEVENT
DTSTART;TZID=Europe/London:20310131T200000
DTEND;TZID=Europe/London:20310131T230000
DTSTAMP:20260423T214100
CREATED:20260122T195835Z
LAST-MODIFIED:20260204T002351Z
UID:10000090-1927656000-1927666800@churchdownclub.co.uk
SUMMARY:Quiz Night
DESCRIPTION:Come along to our monthly Quiz night\, held on the last Friday evening of every month from 20:00.
URL:https://churchdownclub.co.uk/event/quiz-night/2031-01-31/
LOCATION:Churchdown Club\, Church Road\, Churchdown\, Gloucester\, Gloucestershire\, GL3 2ER\, United Kingdom
END:VEVENT
BEGIN:VEVENT
DTSTART;TZID=Europe/London:20310228T200000
DTEND;TZID=Europe/London:20310228T230000
DTSTAMP:20260423T214100
CREATED:20260122T195835Z
LAST-MODIFIED:20260204T002351Z
UID:10000115-1930075200-1930086000@churchdownclub.co.uk
SUMMARY:Quiz Night
DESCRIPTION:Come along to our monthly Quiz night\, held on the last Friday evening of every month from 20:00.
URL:https://churchdownclub.co.uk/event/quiz-night/2031-02-28/
LOCATION:Churchdown Club\, Church Road\, Churchdown\, Gloucester\, Gloucestershire\, GL3 2ER\, United Kingdom
END:VEVENT
BEGIN:VEVENT
DTSTART;TZID=Europe/London:20310328T200000
DTEND;TZID=Europe/London:20310328T230000
DTSTAMP:20260423T214100
CREATED:20260122T195835Z
LAST-MODIFIED:20260204T002351Z
UID:10000116-1932494400-1932505200@churchdownclub.co.uk
SUMMARY:Quiz Night
DESCRIPTION:Come along to our monthly Quiz night\, held on the last Friday evening of every month from 20:00.
URL:https://churchdownclub.co.uk/event/quiz-night/2031-03-28/
LOCATION:Churchdown Club\, Church Road\, Churchdown\, Gloucester\, Gloucestershire\, GL3 2ER\, United Kingdom
END:VEVENT
END:VCALENDAR