BEGIN:VCALENDAR
VERSION:2.0
PRODID:-//Churchdown Club - ECPv6.15.20//NONSGML v1.0//EN
CALSCALE:GREGORIAN
METHOD:PUBLISH
X-WR-CALNAME:Churchdown Club
X-ORIGINAL-URL:https://churchdownclub.co.uk
X-WR-CALDESC:Events for Churchdown Club
REFRESH-INTERVAL;VALUE=DURATION:PT1H
X-Robots-Tag:noindex
X-PUBLISHED-TTL:PT1H
BEGIN:VTIMEZONE
TZID:Europe/London
BEGIN:DAYLIGHT
TZOFFSETFROM:+0000
TZOFFSETTO:+0100
TZNAME:BST
DTSTART:20250330T010000
END:DAYLIGHT
BEGIN:STANDARD
TZOFFSETFROM:+0100
TZOFFSETTO:+0000
TZNAME:GMT
DTSTART:20251026T010000
END:STANDARD
BEGIN:DAYLIGHT
TZOFFSETFROM:+0000
TZOFFSETTO:+0100
TZNAME:BST
DTSTART:20260329T010000
END:DAYLIGHT
BEGIN:STANDARD
TZOFFSETFROM:+0100
TZOFFSETTO:+0000
TZNAME:GMT
DTSTART:20261025T010000
END:STANDARD
BEGIN:DAYLIGHT
TZOFFSETFROM:+0000
TZOFFSETTO:+0100
TZNAME:BST
DTSTART:20270328T010000
END:DAYLIGHT
BEGIN:STANDARD
TZOFFSETFROM:+0100
TZOFFSETTO:+0000
TZNAME:GMT
DTSTART:20271031T010000
END:STANDARD
BEGIN:DAYLIGHT
TZOFFSETFROM:+0000
TZOFFSETTO:+0100
TZNAME:BST
DTSTART:20280326T010000
END:DAYLIGHT
BEGIN:STANDARD
TZOFFSETFROM:+0100
TZOFFSETTO:+0000
TZNAME:GMT
DTSTART:20281029T010000
END:STANDARD
END:VTIMEZONE
BEGIN:VEVENT
DTSTART;VALUE=DATE:20261211
DTEND;VALUE=DATE:20261212
DTSTAMP:20260424T180820
CREATED:20260210T122057Z
LAST-MODIFIED:20260210T122057Z
UID:10000112-1796947200-1797033599@churchdownclub.co.uk
SUMMARY:Carols At The Club
DESCRIPTION:
URL:https://churchdownclub.co.uk/event/carols-at-the-club/
LOCATION:Churchdown Club\, Church Road\, Churchdown\, Gloucester\, Gloucestershire\, GL3 2ER\, United Kingdom
END:VEVENT
BEGIN:VEVENT
DTSTART;TZID=Europe/London:20261212T200000
DTEND;TZID=Europe/London:20261212T230000
DTSTAMP:20260424T180820
CREATED:20260126T222605Z
LAST-MODIFIED:20260204T002220Z
UID:10000087-1797105600-1797116400@churchdownclub.co.uk
SUMMARY:Live Music - Zool
DESCRIPTION:Join us for live music at Churchdown Club – free\, community events open to everyone. Enjoy a great atmosphere and a welcoming venue. \nPlease check our social media pages for the latest updates and any changes to the event schedule.
URL:https://churchdownclub.co.uk/event/live-music-zool/
LOCATION:Churchdown Club\, Church Road\, Churchdown\, Gloucester\, Gloucestershire\, GL3 2ER\, United Kingdom
END:VEVENT
BEGIN:VEVENT
DTSTART;VALUE=DATE:20261220
DTEND;VALUE=DATE:20261221
DTSTAMP:20260424T180820
CREATED:20260210T122115Z
LAST-MODIFIED:20260210T122115Z
UID:10000113-1797724800-1797811199@churchdownclub.co.uk
SUMMARY:Kids Christmas Party
DESCRIPTION:
URL:https://churchdownclub.co.uk/event/kids-christmas-party/
LOCATION:Churchdown Club\, Church Road\, Churchdown\, Gloucester\, Gloucestershire\, GL3 2ER\, United Kingdom
END:VEVENT
BEGIN:VEVENT
DTSTART;TZID=Europe/London:20261225T200000
DTEND;TZID=Europe/London:20261225T230000
DTSTAMP:20260424T180820
CREATED:20260122T195835Z
LAST-MODIFIED:20260204T002351Z
UID:10000012-1798228800-1798239600@churchdownclub.co.uk
SUMMARY:Quiz Night
DESCRIPTION:Come along to our monthly Quiz night\, held on the last Friday evening of every month from 20:00.
URL:https://churchdownclub.co.uk/event/quiz-night/2026-12-25/
LOCATION:Churchdown Club\, Church Road\, Churchdown\, Gloucester\, Gloucestershire\, GL3 2ER\, United Kingdom
END:VEVENT
BEGIN:VEVENT
DTSTART;TZID=Europe/London:20261231T180000
DTEND;TZID=Europe/London:20270101T010000
DTSTAMP:20260424T180820
CREATED:20260210T122154Z
LAST-MODIFIED:20260210T122154Z
UID:10000114-1798740000-1798765200@churchdownclub.co.uk
SUMMARY:NYE – Party Night with Ricardo
DESCRIPTION:
URL:https://churchdownclub.co.uk/event/nye-party-night-with-ricardo/
LOCATION:Churchdown Club\, Church Road\, Churchdown\, Gloucester\, Gloucestershire\, GL3 2ER\, United Kingdom
END:VEVENT
END:VCALENDAR